BEGIN:VCALENDAR
VERSION:2.0
PRODID:-//FDC - ECPv6.15.20//NONSGML v1.0//EN
CALSCALE:GREGORIAN
METHOD:PUBLISH
X-WR-CALNAME:FDC
X-ORIGINAL-URL:https://www.fdconline.org
X-WR-CALDESC:Events for FDC
REFRESH-INTERVAL;VALUE=DURATION:PT1H
X-Robots-Tag:noindex
X-PUBLISHED-TTL:PT1H
BEGIN:VTIMEZONE
TZID:UTC
BEGIN:STANDARD
TZOFFSETFROM:+0000
TZOFFSETTO:+0000
TZNAME:UTC
DTSTART:20220101T000000
END:STANDARD
END:VTIMEZONE
BEGIN:VTIMEZONE
TZID:America/New_York
BEGIN:DAYLIGHT
TZOFFSETFROM:-0500
TZOFFSETTO:-0400
TZNAME:EDT
DTSTART:20230312T070000
END:DAYLIGHT
BEGIN:STANDARD
TZOFFSETFROM:-0400
TZOFFSETTO:-0500
TZNAME:EST
DTSTART:20231105T060000
END:STANDARD
BEGIN:DAYLIGHT
TZOFFSETFROM:-0500
TZOFFSETTO:-0400
TZNAME:EDT
DTSTART:20240310T070000
END:DAYLIGHT
BEGIN:STANDARD
TZOFFSETFROM:-0400
TZOFFSETTO:-0500
TZNAME:EST
DTSTART:20241103T060000
END:STANDARD
BEGIN:DAYLIGHT
TZOFFSETFROM:-0500
TZOFFSETTO:-0400
TZNAME:EDT
DTSTART:20250309T070000
END:DAYLIGHT
BEGIN:STANDARD
TZOFFSETFROM:-0400
TZOFFSETTO:-0500
TZNAME:EST
DTSTART:20251102T060000
END:STANDARD
END:VTIMEZONE
BEGIN:VEVENT
DTSTART;TZID=UTC:20251003T200000
DTEND;TZID=UTC:20251003T230000
DTSTAMP:20260424T011141
CREATED:20250915T204357Z
LAST-MODIFIED:20250915T204357Z
UID:9362-1759521600-1759532400@www.fdconline.org
SUMMARY:The Ultimate 50th Anniversary Celebration: FDC Meets Rocky Horror Picture Show
DESCRIPTION:Join us Oct 3 for the ultimate dual 50th Anniversary Celebration—community + cult classic at Kent Theater! Two legends\, one night! Celebrate 50 years of FDC + Rocky Horror with live performance by NYCRHPS\, a full film screening\, and community fun. Tickets: $50 each | 4 for $180 Free popcorn | $5 drinks Each ticket includes a free future admission to the Kent Theater Doors Open at 8PM. Kent Theater (Viewer discretion advised – adult content) \n\nThis year marks a dual 50th Anniversary: the Flatbush Development Corporation (FDC) and the cult classic Rocky Horror Picture Show! \nJoin us for a wild\, unforgettable night of live performance\, film\, and community fun—all while supporting FDC’s vital programs for families\, youth\, housing\, and small businesses in Flatbush. \n\nLive performance (NYCRHPS) + film screening of Richard O’Brien’s cult classic.\n1 Ticket: $50 | 4 Tickets: $180\n$5 Drinks\nFree popcorn for all guests\nEvery ticket includes a free future admission to the Kent Theater\nDual 50th Anniversary Celebration: FDC & The Rocky Horror Picture Show (Est. 1975)\n\n*Viewer Discretion advised – Adult Content*
URL:https://www.fdconline.org/event/the-ultimate-50th-anniversary-celebration-fdc-meets-rocky-horror-picture-show/
LOCATION:Kent Theater\, 1170 Coney Island Ave\, Brooklyn\, NY\, 11230\, United States
ATTACH;FMTTYPE=image/png:https://www.fdconline.org/wp-content/uploads/2025/09/Friday-October-3-Kent-Theater-8-PM-1170-Coney-Island-Ave.png
END:VEVENT
BEGIN:VEVENT
DTSTART;TZID=UTC:20250921T100000
DTEND;TZID=UTC:20250921T180000
DTSTAMP:20260424T011141
CREATED:20250423T222126Z
LAST-MODIFIED:20250423T222205Z
UID:9185-1758448800-1758477600@www.fdconline.org
SUMMARY:50th Annual Flatbush Frolic
DESCRIPTION:Join us as we celebrate our 50th year hosting one of Brooklyn’s most iconic street fairs on Cortelyou Road. Enjoy a full day of live music\, food\, vendors\, and so much more. 
URL:https://www.fdconline.org/event/50th-annual-flatbush-frolic/
LOCATION:Cortelyou Road\, 700 Cortelyou Road\, Brooklyn\, NY\, 11218\, United States
END:VEVENT
BEGIN:VEVENT
DTSTART;TZID=UTC:20250915T080000
DTEND;TZID=UTC:20250915T170000
DTSTAMP:20260424T011141
CREATED:20250915T204934Z
LAST-MODIFIED:20250915T210741Z
UID:9367-1757923200-1757955600@www.fdconline.org
SUMMARY:FDC 50th Anniversary Gala
DESCRIPTION:For half a century\, the Flatbush Development Corporation (FDC) has been at the heart of Brooklyn’s progress—empowering youth\, protecting affordable housing\, supporting small businesses\, and strengthening our vibrant\, diverse community. This year\, we invite you to be part of our golden milestone. \n\nFDC’s 50th Anniversary Gala! \nThursday\, October 23\, 2025 | 6:00–10:00 PM\nThe Picnic House in Prospect Park\n40 West Drive\, Prospect Park\, Brooklyn\, NY 11215 \nJoin us for a milestone celebration of 50 years of community impact at the Flatbush Development Corporation’s 50th Anniversary Gala! Set in the beautiful\, historic Picnic House in Prospect Park\, the evening will bring together neighbors\, partners\, alumni\, and supporters to honor our legacy and invest in our future. \nEnjoy an elegant night of live music\, local food and drinks\, storytelling\, and community spirit\, as we recognize the people and programs that have shaped Flatbush into a more equitable\, vibrant place to live\, work\, and thrive. Together\, we’ll celebrate FDC’s accomplishments in housing\, youth services\, small business support\, and neighborhood beautification. \nYour attendance and support will help power the next 50 years of grassroots leadership and resilient community building. \nDress code: Festive cocktail \nSponsorship and tribute opportunities available. We’re happy to discuss custom sponsorship options. Contact Lupe Ramsey 917-776-4246; or Nina Leonard 845-570-0164Email: lramsey@fdconline.org
URL:https://www.fdconline.org/event/fdc-50th-anniversary-gala/
LOCATION:Picnic House at Prospect Park\, 40 West Dr\, Brooklyn\, NY\, 11215
ATTACH;FMTTYPE=image/png:https://www.fdconline.org/wp-content/uploads/2025/09/Screenshot-2025-09-15-at-4.59.53-PM.png
END:VEVENT
BEGIN:VEVENT
DTSTART;TZID=UTC:20250727T120000
DTEND;TZID=UTC:20250727T200000
DTSTAMP:20260424T011141
CREATED:20250423T221425Z
LAST-MODIFIED:20250423T221425Z
UID:9177-1753617600-1753646400@www.fdconline.org
SUMMARY:Newkirk Ave Open Streets - Season Finale!
DESCRIPTION:Don’t miss the season finale of our Newkirk Avenue Open Streets! We have a lot in store for a fun-filled day. More details to come… \nNewkirk Avenue closed from East 17 street – Coney Island Avenue EVERY Sunday from May 4 – July 27!  However\, we will skip programming on the following weeks: 5/11\, 5/25\, 6/15\, 6/29\, 7/6. \n 
URL:https://www.fdconline.org/event/newkirk-ave-open-streets-season-finale/
LOCATION:Newkirk Avenue\, 1616 Newkirk Avenue\, Brooklyn\, 11226\, United States
END:VEVENT
BEGIN:VEVENT
DTSTART;TZID=UTC:20250720T120000
DTEND;TZID=UTC:20250720T200000
DTSTAMP:20260424T011141
CREATED:20250308T054942Z
LAST-MODIFIED:20250423T222021Z
UID:8834-1753012800-1753041600@www.fdconline.org
SUMMARY:Newkirk Ave Open Streets
DESCRIPTION:More Details to Come…Newkirk Avenue closed from East 17 street – Coney Island Avenue EVERY Sunday from May 4 – July 27!  However\, we will skip programming on the following weeks: 5/11\, 5/25\, 6/15\, 6/29\, 7/6.
URL:https://www.fdconline.org/event/newkirk-ave-open-streets-4/
LOCATION:NY
END:VEVENT
BEGIN:VEVENT
DTSTART;TZID=UTC:20250713T120000
DTEND;TZID=UTC:20250713T200000
DTSTAMP:20260424T011141
CREATED:20250308T054915Z
LAST-MODIFIED:20250423T221852Z
UID:8835-1752408000-1752436800@www.fdconline.org
SUMMARY:Newkirk Ave Open Streets
DESCRIPTION:More Details to Come… \nNewkirk Avenue closed from East 17 street – Coney Island Avenue EVERY Sunday from May 4 – July 27!  However\, we will skip programming on the following weeks: 5/11\, 5/25\, 6/15\, 6/29\, 7/6. \n 
URL:https://www.fdconline.org/event/newkirk-ave-open-streets-3/
LOCATION:NY
END:VEVENT
BEGIN:VEVENT
DTSTART;TZID=UTC:20250622T120000
DTEND;TZID=UTC:20250622T200000
DTSTAMP:20260424T011141
CREATED:20250308T054639Z
LAST-MODIFIED:20250423T221812Z
UID:8832-1750593600-1750622400@www.fdconline.org
SUMMARY:Summer Solstice Celebration - Newkirk Ave Open Streets
DESCRIPTION:More details to come… \nNewkirk Avenue closed from East 17 street – Coney Island Avenue EVERY Sunday from May 4 – July 27!  However\, we will skip programming on the following weeks: 5/11\, 5/25\, 6/15\, 6/29\, 7/6.
URL:https://www.fdconline.org/event/summer-solstice-celebration-newkirk-ave-open-streets/
LOCATION:NY
END:VEVENT
BEGIN:VEVENT
DTSTART;TZID=UTC:20250608T120000
DTEND;TZID=UTC:20250608T200000
DTSTAMP:20260424T011141
CREATED:20250308T054438Z
LAST-MODIFIED:20250308T054438Z
UID:8828-1749384000-1749412800@www.fdconline.org
SUMMARY:Community Health & Resource Fair - Newkirk Ave Open Streets
DESCRIPTION:More details to come…
URL:https://www.fdconline.org/event/community-health-resource-fair-newkirk-ave-open-streets/
LOCATION:NY
END:VEVENT
BEGIN:VEVENT
DTSTART;TZID=UTC:20250601T120000
DTEND;TZID=UTC:20250601T200000
DTSTAMP:20260424T011141
CREATED:20250308T035145Z
LAST-MODIFIED:20250423T221927Z
UID:8826-1748779200-1748808000@www.fdconline.org
SUMMARY:Newkirk Ave Open Streets
DESCRIPTION:More details to come… \n  \nNewkirk Avenue closed from East 17 street – Coney Island Avenue EVERY Sunday from May 4 – July 27!  However\, we will skip programming on the following weeks: 5/11\, 5/25\, 6/15\, 6/29\, 7/6.
URL:https://www.fdconline.org/event/newkirk-ave-open-streets-2/
LOCATION:NY
END:VEVENT
BEGIN:VEVENT
DTSTART;TZID=UTC:20250601T100000
DTEND;TZID=UTC:20250601T140000
DTSTAMP:20260424T011141
CREATED:20250417T215757Z
LAST-MODIFIED:20250417T215757Z
UID:9029-1748772000-1748786400@www.fdconline.org
SUMMARY:Victorian Flatbush House & Garden Tour
DESCRIPTION:
URL:https://www.fdconline.org/event/victorian-flatbush-house-garden-tour/
LOCATION:NY
ATTACH;FMTTYPE=image/png:https://www.fdconline.org/wp-content/uploads/2025/04/ProspectPostBlock1-1.png
END:VEVENT
BEGIN:VEVENT
DTSTART;TZID=UTC:20250518T120000
DTEND;TZID=UTC:20250518T200000
DTSTAMP:20260424T011141
CREATED:20250308T035034Z
LAST-MODIFIED:20250423T221530Z
UID:8824-1747569600-1747598400@www.fdconline.org
SUMMARY:Newkirk Ave Open Streets
DESCRIPTION:More Details to Come… \nNewkirk Avenue closed from East 17 street – Coney Island Avenue EVERY Sunday from May 4 – July 27!  However\, we will skip programming on the following weeks: 5/11\, 5/25\, 6/15\, 6/29\, 7/6.
URL:https://www.fdconline.org/event/newkirk-ave-open-streets/
LOCATION:NY
END:VEVENT
BEGIN:VEVENT
DTSTART;TZID=UTC:20250504T120000
DTEND;TZID=UTC:20250504T200000
DTSTAMP:20260424T011141
CREATED:20250308T034728Z
LAST-MODIFIED:20250308T034728Z
UID:8821-1746360000-1746388800@www.fdconline.org
SUMMARY:Flatbush Community Day & Newkirk Avenue Open Streets Season Opener!
DESCRIPTION:Join us for our annual Community Beautification Day on Newkirk Avenue for our first Open Streets Sunday of the Season! Come by to participate in community cleanup and graffiti removal and prepare for spring cleaning with paper shredding\, electronic waste recycling\, textile recycling\, and more! \nIn the spirit of Cinco De Mayo\, we will be celebrating with Mariachi and a piñata game! \n  \nMore details to come…
URL:https://www.fdconline.org/event/flatbush-community-day-newkirk-avenue-open-streets-season-opener/
LOCATION:Newkirk Avenue\, 1616 Newkirk Avenue\, Brooklyn\, 11226\, United States
ATTACH;FMTTYPE=image/jpeg:https://www.fdconline.org/wp-content/uploads/2025/03/PXL_20240519_180310540.PORTRAIT-e1741405600459.jpg
END:VEVENT
BEGIN:VEVENT
DTSTART;TZID=UTC:20241218T160000
DTEND;TZID=UTC:20241218T183000
DTSTAMP:20260424T011141
CREATED:20241210T215121Z
LAST-MODIFIED:20250221T201040Z
UID:8686-1734537600-1734546600@www.fdconline.org
SUMMARY:Newkirk Plaza Lights! Holiday Celebration
DESCRIPTION:Join us in Newkirk Plaza on Wednesday December 18\, for our annual Holiday celebration. \nThere will be a Toy giveaway and photos with Santa\, tree lighting\, Christmas caroling\, food samples from local restaurants and more! \n*Gifts and Food samples are first come\, first served*
URL:https://www.fdconline.org/event/newkirk-plaza-lights-holiday-celebration/
LOCATION:Newkirk Plaza\, Newkirk Plaza\, Brooklyn\, NY\, 11226\, United States
ATTACH;FMTTYPE=image/png:https://www.fdconline.org/wp-content/uploads/2025/02/FDC-HOLIDAY.png
END:VEVENT
BEGIN:VEVENT
DTSTART;TZID=UTC:20240922T100000
DTEND;TZID=UTC:20240922T180000
DTSTAMP:20260424T011141
CREATED:20240408T195001Z
LAST-MODIFIED:20240408T195001Z
UID:8141-1726999200-1727028000@www.fdconline.org
SUMMARY:Flatbush Frolic
DESCRIPTION:“Flatbush’s favorite street fair since 1975\, FDC sponsored Flatbush Frolic is back for 2023! Join us for a day full of food\, arts\, rides\, music & more!”\n\nThis event is free to attend and there is no RSVP needed. Rides\, food & other booths however are not free and prices vary within.\n\n\nFor more information contact: nleonard@fdconline.org
URL:https://www.fdconline.org/event/flatbush-frolic-2/
LOCATION:Cortelyou Road\, 700 Cortelyou Road\, Brooklyn\, NY\, 11218\, United States
ATTACH;FMTTYPE=image/png:https://www.fdconline.org/wp-content/uploads/2024/04/Screenshot-2024-04-08-at-3.10.37 PM.png
END:VEVENT
BEGIN:VEVENT
DTSTART;TZID=UTC:20240609T190000
DTEND;TZID=UTC:20240609T210000
DTSTAMP:20260424T011141
CREATED:20240523T215958Z
LAST-MODIFIED:20240604T185848Z
UID:8247-1717959600-1717966800@www.fdconline.org
SUMMARY:Newkirk Ave Open Streets - Grand Reveal: Urban Braids: Illuminating Newkirk Plaza
DESCRIPTION:Brooklyn\, NY – June 4\, 2024 – The Flatbush Development Corporation (FDC) Unveils “Urban Braids: Illuminating Newkirk Plaza”  \nFDC proudly announces the inauguration of “Urban Braids: Illuminating Newkirk Plaza“\, an innovative lighting project designed to enhance the safety and ambiance of Newkirk Plaza. This project aims to boost local small businesses and foster community engagement by creating a vibrant\, well-lit environment for shopping\, strolling\, and commuting. \nThis project is one of 15 commissioned works\, generously funded by New York City’s Small Business Services (SBS) grant as part of their Commercial District Lighting initiative across different neighborhoods in NYC.  \n“Urban Braids” is the newest addition to artist Leni Schwendinger’s D.I.Y. Lighting collection series of dynamic\, colorful braided light structures that will illuminate the Plaza with a unique artistic feature. This new lighting approach employs community engagement for innovative string lighting that addresses the area’s challenges related to insufficient outdoor lighting and perceptions of safety. “Urban Braids‘ is a testament to FDC’s long-term commitment to revitalizing Newkirk Plaza and supporting local businesses.” said Robin Redmond\, Executive Director of FDC. \n“SBS is proud to fund the FDC to bring Urban Braids to life\,” said SBS Commissioner Kevin D. Kim. “Our Commercial District Lighting Grants are real investments in people and communities. It’s these kinds of projects that will continue to make our commercial corridors brighter\, more livable\, and more vibrant for every New Yorker.” \nLeni\, the artist states\, “FDC’s community relationships and commitment was key to the making of the project. The braiding workday and logistics have been exceptionally harmonious” \nThe “Urban Braids” installation will be officially unveiled at a community celebration on June 9\, 2024\, at 7:00 PM in Newkirk Plaza. The event will feature live music\, artists\, local food\, and the first lighting of the braided structures. All community members and media are invited to attend and witness the transformation of Newkirk Plaza. \nFor more information about the project or the event\, please contact Nina Leonard (FDC) at nleonard@fdconline.org– (845) 570 – 0164 or visit our website www.fdconline.org. \nTo learn more about Artist Leni Schwendinger’ urban lighting design and artwork go to: www.lslp.net/. Urban Braids photos and interviews with the artist are available upon request. \nAbout the Flatbush Development Corporation: FDC is a non-profit organization dedicated to enhancing the quality of life for all in Flatbush\, Brooklyn. Through various initiatives\, FDC supports community development\, economic revitalization\, and the preservation of cultural resources. __________________________________________________________________________________________________________________________________ \nJoin us this summer for our fifth season of Newkirk Avenue Open Streets! This year we have a lot of exciting programming so keep checking our website for more updates on the list of activities for each day. Streets will be closed every Sunday from May 19- July 14 from 11 AM- 8 PM. (FDC Programs will take place on the following dates: 5/19\, 6/2\, 6/9\, 6/16\, 6/23\, 7/7/\, 7/14) \n 
URL:https://www.fdconline.org/event/newkirk-ave-open-streets-grand-reveal-newkirk-plaza-path-of-light-illuminating-the-urban-braid/
LOCATION:Newkirk Plaza\, Newkirk Plaza\, Brooklyn\, NY\, 11226\, United States
ATTACH;FMTTYPE=image/jpeg:https://www.fdconline.org/wp-content/uploads/2024/05/Newkirk-Plaza_6-9-Invitation_WEB-1.jpg
END:VEVENT
BEGIN:VEVENT
DTSTART;TZID=UTC:20240602T120000
DTEND;TZID=UTC:20240602T200000
DTSTAMP:20260424T011141
CREATED:20240523T215156Z
LAST-MODIFIED:20240523T215512Z
UID:8239-1717329600-1717358400@www.fdconline.org
SUMMARY:Newkirk Avenue Open Streets
DESCRIPTION:Join us this summer for our fifth season of Newkirk Avenue Open Streets! This year we have a lot of exciting programming so keep checking our website for more updates on the list of activities for each day. Streets will be closed every Sunday from May 19- July 14 from 11 AM- 8 PM. (FDC Programs will take place on the following dates: 5/19\, 6/2\, 6/9\, 6/16\, 6/23\, 7/7/\, 7/14) \nActivities for June 2 include: \n\n12:45 – FDC programming tables set up for activities & giveaways \n\n\n2:00 PM – Salsa Lessons with Marisol Ramirez (B/w Argyle and Rugby Rd)\n2:00 PM – Arts and Crafts (B/w Argyle and Rugby Rd)\n3:00 PM – Karate Demonstration (B/w Marlborough and Rugby)\n\n\n\n\n\n5:00 PM- Live music Performance at WattLi- Wayne Tucker and the Bad Mothas\n8:00 – Streets Re-open
URL:https://www.fdconline.org/event/newkirk-avenue-open-streets-9/
LOCATION:Newkirk Avenue\, 1616 Newkirk Avenue\, Brooklyn\, 11226\, United States
ATTACH;FMTTYPE=image/jpeg:https://www.fdconline.org/wp-content/uploads/2024/05/FDC_Newkirk-Ave_7-31-22.jpg
END:VEVENT
BEGIN:VEVENT
DTSTART;TZID=UTC:20240519T110000
DTEND;TZID=UTC:20240519T180000
DTSTAMP:20260424T011141
CREATED:20240408T190448Z
LAST-MODIFIED:20240408T190448Z
UID:8136-1716116400-1716141600@www.fdconline.org
SUMMARY:Flatbush Community Day
DESCRIPTION:FDC is hosting a Flatbush Community Day on May 19. This will kick off our Newkirk Avenue Open streets season. The day will include a host of services including but not limited to: paper shredding\, electronic waste recycling\, community clean up & so much more! We hope to make this a community wide effort and would love to highlight your neighborhood/ block/tenant association\, organization\, or business that might want to participate.
URL:https://www.fdconline.org/event/flatbush-community-day/
LOCATION:Newkirk Avenue\, 1616 Newkirk Avenue\, Brooklyn\, 11226\, United States
ATTACH;FMTTYPE=image/png:https://www.fdconline.org/wp-content/uploads/2024/04/FDC_FBD_STD.png
END:VEVENT
BEGIN:VEVENT
DTSTART;TZID=America/New_York:20240509T180000
DTEND;TZID=America/New_York:20240509T210000
DTSTAMP:20260424T011141
CREATED:20240404T172634Z
LAST-MODIFIED:20240408T190750Z
UID:8127-1715277600-1715288400@www.fdconline.org
SUMMARY:FDC Is Turning 49!
DESCRIPTION:You’re invited to the Flatbush Development Corporation’s 49th Birthday Bash! Celebrate our neighborhood’s legacy and future with food\, drinks and fun. \nSupport FDC’s mission of a vibrant Flatbush where everyone can thrive. Meet old friends\, meet new faces\, and celebrate the resilience and strength of our community.\nClick Here to Buy Tickets!
URL:https://www.fdconline.org/event/fdc-is-turning-49/
LOCATION:1199 Flatbush Avenue\, 1199 Flatbush Avenue\, Brooklyn\, NY\, 11226\, United States
ATTACH;FMTTYPE=image/jpeg:https://www.fdconline.org/wp-content/uploads/2024/04/FDC49Event.jpg
END:VEVENT
BEGIN:VEVENT
DTSTART;TZID=UTC:20240427T090000
DTEND;TZID=UTC:20240427T140000
DTSTAMP:20260424T011141
CREATED:20240422T200809Z
LAST-MODIFIED:20240424T210952Z
UID:8154-1714208400-1714226400@www.fdconline.org
SUMMARY:Flatbush Tenant Coalition SCRIE Clinic
DESCRIPTION:The Flatbush Tenant Coalition is partnering with the Brooklyn Borough President’s Office (BBP) by providing 7-8 staff members from their Rent Freeze Unit to help with the SCRIE application Process. Participation for this event is by Appointment Only! This will take place at FDC Main office: 1616 Newkirk Avenue \nIf you or someone you know is interested inapplying for SCRIE.\nMake an appointment by calling: 718- 635 -2623
URL:https://www.fdconline.org/event/flatbush-tenant-coalition-scrie-clinic/
LOCATION:FDC Office\, 1616 Newkirk Ave\, Brooklyn\, NY\, United States
ATTACH;FMTTYPE=image/png:https://www.fdconline.org/wp-content/uploads/2024/04/scrie-clinic-4-27.png
END:VEVENT
BEGIN:VEVENT
DTSTART;TZID=UTC:20240413T094500
DTEND;TZID=UTC:20240413T114500
DTSTAMP:20260424T011141
CREATED:20240408T222024Z
LAST-MODIFIED:20240408T222024Z
UID:8145-1713001500-1713008700@www.fdconline.org
SUMMARY:FTC Monthly Coalition and Housing Meeting
DESCRIPTION:Need Repairs? Going to Housing Court? Join the Flatbush Tenant Coalition (FTC) The second Saturday of every month! For more information please email ftcoalition@gmail.com
URL:https://www.fdconline.org/event/ftc-monthly-coalition-and-housing-meeting/
LOCATION:Tompkins Church\, 424 E 19th St\, Brooklyn\, NY\, United States
ATTACH;FMTTYPE=image/jpeg:https://www.fdconline.org/wp-content/uploads/2024/04/0.jpg
END:VEVENT
BEGIN:VEVENT
DTSTART;TZID=UTC:20231213T163000
DTEND;TZID=UTC:20231213T180000
DTSTAMP:20260424T011141
CREATED:20231127T230847Z
LAST-MODIFIED:20231127T230847Z
UID:7781-1702485000-1702490400@www.fdconline.org
SUMMARY:Newkirk Plaza Lights! Celebration
DESCRIPTION:Join us for our annual holiday celebration in Newkirk Plaza! This event will include; Photos with Santa\, Toy Giveaway\, Menorah Lighting\, Tree Lighting\, Music & more!
URL:https://www.fdconline.org/event/newkirk-plaza-lights-celebration-2/
LOCATION:Newkirk Plaza\, Newkirk Plaza\, Brooklyn\, NY\, 11226\, United States
ATTACH;FMTTYPE=image/png:https://www.fdconline.org/wp-content/uploads/2023/11/2023-Newkirk-holiday-Instagram-Post-2.png
END:VEVENT
BEGIN:VEVENT
DTSTART;VALUE=DATE:20231111
DTEND;VALUE=DATE:20240402
DTSTAMP:20260424T011141
CREATED:20231111T002724Z
LAST-MODIFIED:20231127T230018Z
UID:7762-1699660800-1712015999@www.fdconline.org
SUMMARY:Hey Neighbor NYC in Newkirk Plaza!
DESCRIPTION:Organizations from over 35 organizations across NYC nominated community members who are “connectors” and then worked together in a collaborative artistic photography project. Come check out the Brooklyn Exhibit located in our neighborhoods beloved Newkirk Plaza. This exhibition also features our dear friend Duane Joseph who passed away in June of 2023\, a dedicated and passionate community leader in Flatbush.
URL:https://www.fdconline.org/event/hey-neighbor-nyc-in-newkirk-plaza/
LOCATION:Newkirk Plaza\, Newkirk Plaza\, Brooklyn\, NY\, 11226\, United States
ATTACH;FMTTYPE=image/png:https://www.fdconline.org/wp-content/uploads/2023/11/unnamed-2.png
END:VEVENT
BEGIN:VEVENT
DTSTART;TZID=UTC:20231022T110000
DTEND;TZID=UTC:20231022T150000
DTSTAMP:20260424T011141
CREATED:20230906T185723Z
LAST-MODIFIED:20231017T122239Z
UID:7487-1697972400-1697986800@www.fdconline.org
SUMMARY:Ditmas Park Day
DESCRIPTION:Join us for our annual Fall Ditmas Park Day! Enjoy the circus\, music\, and fall festivities in your neighborhood.
URL:https://www.fdconline.org/event/ditmas-park-day-2/
LOCATION:NY
ATTACH;FMTTYPE=image/png:https://www.fdconline.org/wp-content/uploads/2023/09/dp-day-main-23.png
END:VEVENT
BEGIN:VEVENT
DTSTART;TZID=UTC:20231015T110000
DTEND;TZID=UTC:20231015T180000
DTSTAMP:20260424T011141
CREATED:20230228T210104Z
LAST-MODIFIED:20230906T184607Z
UID:6480-1697367600-1697392800@www.fdconline.org
SUMMARY:Flatbush Frolic
DESCRIPTION:“Flatbush’s favorite street fair since 1975\, FDC sponsored Flatbush Frolic is back for 2023! Join us for a day full of food\, arts\, rides\, music & more!”\n\n\nThis event is free to attend and there is no RSVP needed. Rides\, food & other booths however are not free and prices vary within. For more information and inquiries about the Festival\, email us at dcordova@fdconline.org !\n\n\n\n\n\nFlatbush Frolic
URL:https://www.fdconline.org/event/flatbush-frolic/
LOCATION:NY
ATTACH;FMTTYPE=image/png:https://www.fdconline.org/wp-content/uploads/2022/10/22Frolic12.png
END:VEVENT
BEGIN:VEVENT
DTSTART;TZID=UTC:20230909T094500
DTEND;TZID=UTC:20230909T113000
DTSTAMP:20260424T011141
CREATED:20230906T183952Z
LAST-MODIFIED:20230906T183952Z
UID:7481-1694252700-1694259000@www.fdconline.org
SUMMARY:Flatbush Tenant Coalition: Monthly Tenant Meeting
DESCRIPTION:
URL:https://www.fdconline.org/event/flatbush-tenant-coalition-monthly-tenant-meeting/
LOCATION:Tompkins Church\, 424 E 19th St\, Brooklyn\, NY\, United States
ATTACH;FMTTYPE=image/jpeg:https://www.fdconline.org/wp-content/uploads/2023/09/02.11.23-MCM-18.jpg
END:VEVENT
BEGIN:VEVENT
DTSTART;TZID=UTC:20230730T120000
DTEND;TZID=UTC:20230730T200000
DTSTAMP:20260424T011141
CREATED:20230228T205841Z
LAST-MODIFIED:20230615T122011Z
UID:6475-1690718400-1690747200@www.fdconline.org
SUMMARY:Newkirk Avenue Open Streets
DESCRIPTION:Open Streets on Newkirk Ave
URL:https://www.fdconline.org/event/newkirk-avenue-open-streets-8/
LOCATION:Newkirk Avenue\, 1616 Newkirk Avenue\, Brooklyn\, 11226\, United States
ATTACH;FMTTYPE=image/jpeg:https://www.fdconline.org/wp-content/uploads/2023/02/Suitecase-Clown-Open-Streets.jpeg
END:VEVENT
BEGIN:VEVENT
DTSTART;TZID=UTC:20230723T120000
DTEND;TZID=UTC:20230723T200000
DTSTAMP:20260424T011141
CREATED:20230228T205430Z
LAST-MODIFIED:20230615T121812Z
UID:6474-1690113600-1690142400@www.fdconline.org
SUMMARY:Newkirk Avenue Open Streets
DESCRIPTION:Open Streets on Newkirk Ave
URL:https://www.fdconline.org/event/newkirk-avenue-open-streets-7/
LOCATION:Newkirk Avenue\, 1616 Newkirk Avenue\, Brooklyn\, 11226\, United States
ATTACH;FMTTYPE=image/png:https://www.fdconline.org/wp-content/uploads/2023/02/Mime-Open-Street.png
END:VEVENT
BEGIN:VEVENT
DTSTART;TZID=UTC:20230716T120000
DTEND;TZID=UTC:20230716T200000
DTSTAMP:20260424T011141
CREATED:20230228T205024Z
LAST-MODIFIED:20230615T121842Z
UID:6471-1689508800-1689537600@www.fdconline.org
SUMMARY:Newkirk Avenue Open Streets
DESCRIPTION:Open Streets on Newkirk Ave
URL:https://www.fdconline.org/event/newkirk-avenue-open-streets-6/
LOCATION:Newkirk Avenue\, 1616 Newkirk Avenue\, Brooklyn\, 11226\, United States
ATTACH;FMTTYPE=image/jpeg:https://www.fdconline.org/wp-content/uploads/2023/02/Open-Streets-Picnic-Table.jpeg
END:VEVENT
BEGIN:VEVENT
DTSTART;TZID=UTC:20230709T120000
DTEND;TZID=UTC:20230709T200000
DTSTAMP:20260424T011141
CREATED:20230228T204444Z
LAST-MODIFIED:20230615T121907Z
UID:6468-1688904000-1688932800@www.fdconline.org
SUMMARY:Newkirk Avenue Open Streets
DESCRIPTION:Open Streets on Newkirk Ave
URL:https://www.fdconline.org/event/newkirk-avenue-open-streets-5/
LOCATION:Newkirk Avenue\, 1616 Newkirk Avenue\, Brooklyn\, 11226\, United States
ATTACH;FMTTYPE=image/jpeg:https://www.fdconline.org/wp-content/uploads/2023/02/Movie-Open-Streets.jpeg
END:VEVENT
BEGIN:VEVENT
DTSTART;TZID=UTC:20230625T120000
DTEND;TZID=UTC:20230625T200000
DTSTAMP:20260424T011141
CREATED:20230228T204039Z
LAST-MODIFIED:20230228T204039Z
UID:6465-1687694400-1687723200@www.fdconline.org
SUMMARY:Newkirk Avenue Open Streets
DESCRIPTION:
URL:https://www.fdconline.org/event/newkirk-avenue-open-streets-4/
LOCATION:Newkirk Avenue\, 1616 Newkirk Avenue\, Brooklyn\, 11226\, United States
ATTACH;FMTTYPE=image/jpeg:https://www.fdconline.org/wp-content/uploads/2023/02/open-streets.jpeg
END:VEVENT
END:VCALENDAR